BEGIN:VCALENDAR
VERSION:2.0
PRODID:-//National Center for Homeless Education - ECPv4.9.10//NONSGML v1.0//EN
CALSCALE:GREGORIAN
METHOD:PUBLISH
X-WR-CALNAME:National Center for Homeless Education
X-ORIGINAL-URL:https://nche.ed.gov
X-WR-CALDESC:Events for National Center for Homeless Education
BEGIN:VTIMEZONE
TZID:America/New_York
BEGIN:DAYLIGHT
TZOFFSETFROM:-0500
TZOFFSETTO:-0400
TZNAME:EDT
DTSTART:20190310T070000
END:DAYLIGHT
BEGIN:STANDARD
TZOFFSETFROM:-0400
TZOFFSETTO:-0500
TZNAME:EST
DTSTART:20191103T060000
END:STANDARD
END:VTIMEZONE
BEGIN:VEVENT
DTSTART;TZID=America/New_York:20190205T140000
DTEND;TZID=America/New_York:20190205T150000
DTSTAMP:20210925T000040
CREATED:20181218T215944Z
LAST-MODIFIED:20181218T215944Z
UID:1627-1549375200-1549378800@nche.ed.gov
SUMMARY:Understanding Doubled Up
DESCRIPTION:Description: In this 45-minute NCHE webinar\, presenters explore the issue of doubling-up. Doubled-up is the informal wording used to describe a concept included in the McKinney-Vento Act’s definition of homeless. It refers to shared living arrangements\, some of which may be considered homeless\, while others may not be\, depending on various factors. In this session\, attendees will explore some of these factors in greater detail. Attendees also will have the opportunity to interact with presenters and fellow attendees through polls and Q&A/discussion periods.\nHandouts: You may download webinar handouts at https://nche.ed.gov/understanding-doubled-up/. \nPresenters: NCHE Staff \nRegister here. \nPlease adjust for your time zone. \n
URL:https://nche.ed.gov/event/understanding-doubled-up/
END:VEVENT
END:VCALENDAR