BEGIN:VCALENDAR
VERSION:2.0
PRODID:-//National Center for Homeless Education - ECPv4.9.10//NONSGML v1.0//EN
CALSCALE:GREGORIAN
METHOD:PUBLISH
X-WR-CALNAME:National Center for Homeless Education
X-ORIGINAL-URL:https://nche.ed.gov
X-WR-CALDESC:Events for National Center for Homeless Education
BEGIN:VTIMEZONE
TZID:America/New_York
BEGIN:DAYLIGHT
TZOFFSETFROM:-0500
TZOFFSETTO:-0400
TZNAME:EDT
DTSTART:20210314T070000
END:DAYLIGHT
BEGIN:STANDARD
TZOFFSETFROM:-0400
TZOFFSETTO:-0500
TZNAME:EST
DTSTART:20211107T060000
END:STANDARD
END:VTIMEZONE
BEGIN:VEVENT
DTSTART;TZID=America/New_York:20210525T140000
DTEND;TZID=America/New_York:20210525T150000
DTSTAMP:20210503T132220
CREATED:20190306T153625Z
LAST-MODIFIED:20210309T142050Z
UID:1964-1621951200-1621954800@nche.ed.gov
SUMMARY:Paving the Way to College for Students Experiencing Homelessness
DESCRIPTION:Description: In this interactive NCHE webinar\, presenters will review important information about supports available to youth experiencing homelessness as they seek to attend college. Attendees can hope to gain a better understanding of: \n\nFee waiver options for college entrance exams and college application fees\nThe FAFSA (Free Application for Federal Student Aid) process for students experiencing homelessness with their family/parent/guardian\, and students experiencing homelessness on their own (unaccompanied homeless youth)\nOptions for seeking financial assistance beyond federal financial aid\nOptions for undocumented youth wishing to attend college\n\nAttendees will have the opportunity to interact with presenters and fellow attendees through polls and Q&A/discussion periods.\nHandouts: You may download webinar handouts at https://nche.ed.gov/nche-webinar-materials-paving-the-way-to-college-for-students-experiencing-homelessness/. \nPresenters: NCHE Staff \nRegister here. \nPlease adjust for your timezone. \n
URL:https://nche.ed.gov/event/paving-the-way-to-college-for-students-experiencing-homelessness-3/
END:VEVENT
END:VCALENDAR