BEGIN:VCALENDAR
VERSION:2.0
PRODID:-//National Center for Homeless Education - ECPv4.9.10//NONSGML v1.0//EN
CALSCALE:GREGORIAN
METHOD:PUBLISH
X-WR-CALNAME:National Center for Homeless Education
X-ORIGINAL-URL:https://nche.ed.gov
X-WR-CALDESC:Events for National Center for Homeless Education
BEGIN:VTIMEZONE
TZID:America/New_York
BEGIN:DAYLIGHT
TZOFFSETFROM:-0500
TZOFFSETTO:-0400
TZNAME:EDT
DTSTART:20210314T070000
END:DAYLIGHT
BEGIN:STANDARD
TZOFFSETFROM:-0400
TZOFFSETTO:-0500
TZNAME:EST
DTSTART:20211107T060000
END:STANDARD
END:VTIMEZONE
BEGIN:VEVENT
DTSTART;TZID=America/New_York:20210921T140000
DTEND;TZID=America/New_York:20210921T150000
DTSTAMP:20210915T160606
CREATED:20190814T195815Z
LAST-MODIFIED:20210730T184547Z
UID:2253-1632232800-1632236400@nche.ed.gov
SUMMARY:McKinney-Vento 101: Basic Requirements of the McKinney-Vento Act
DESCRIPTION:Description: In this interactive NCHE webinar\, presenters will provide a high-level overview of the educational rights of children and youth experiencing homelessness under Subtitle VII-B of the McKinney-Vento Homeless Assistance Act\, as amended by the Every Student Succeeds Act (ESSA). Presenters will cover: \n\nUnderstanding the relationship between housing and school performance\nMcKinney-Vento basics and context\nEligibility for McKinney-Vento rights and services\nImmediate school enrollment\, school selection\, and transportation rights under McKinney-Vento\nThe McKinney-Vento dispute resolution process\n\nAttendees will have the opportunity to interact with presenters and fellow attendees through polls and Q&A/discussion periods. \nHandouts: You may download webinar handouts at https://nche.ed.gov/mckinney-vento-101-basic-requirements-of-the-mckinney-vento-act/.\nPresenters: NCHE Staff \nRegister here. \nPlease adjust for your timezone. \n
URL:https://nche.ed.gov/event/mckinney-vento-101-basic-requirements-of-the-mckinney-vento-act-2/
END:VEVENT
END:VCALENDAR